BEGIN:VCALENDAR
VERSION:2.0
PRODID:-//Flaxton Parish Council - ECPv6.15.18//NONSGML v1.0//EN
CALSCALE:GREGORIAN
METHOD:PUBLISH
X-WR-CALNAME:Flaxton Parish Council
X-ORIGINAL-URL:https://www.flaxtonpc.org.uk
X-WR-CALDESC:Events for Flaxton Parish Council
REFRESH-INTERVAL;VALUE=DURATION:PT1H
X-Robots-Tag:noindex
X-PUBLISHED-TTL:PT1H
BEGIN:VTIMEZONE
TZID:Europe/London
BEGIN:DAYLIGHT
TZOFFSETFROM:+0000
TZOFFSETTO:+0100
TZNAME:BST
DTSTART:20230326T010000
END:DAYLIGHT
BEGIN:STANDARD
TZOFFSETFROM:+0100
TZOFFSETTO:+0000
TZNAME:GMT
DTSTART:20231029T010000
END:STANDARD
BEGIN:DAYLIGHT
TZOFFSETFROM:+0000
TZOFFSETTO:+0100
TZNAME:BST
DTSTART:20240331T010000
END:DAYLIGHT
BEGIN:STANDARD
TZOFFSETFROM:+0100
TZOFFSETTO:+0000
TZNAME:GMT
DTSTART:20241027T010000
END:STANDARD
BEGIN:DAYLIGHT
TZOFFSETFROM:+0000
TZOFFSETTO:+0100
TZNAME:BST
DTSTART:20250330T010000
END:DAYLIGHT
BEGIN:STANDARD
TZOFFSETFROM:+0100
TZOFFSETTO:+0000
TZNAME:GMT
DTSTART:20251026T010000
END:STANDARD
END:VTIMEZONE
BEGIN:VEVENT
DTSTART;TZID=Europe/London:20240917T190000
DTEND;TZID=Europe/London:20240917T203000
DTSTAMP:20260422T022249
CREATED:20240829T120741Z
LAST-MODIFIED:20240902T154224Z
UID:19925-1726599600-1726605000@www.flaxtonpc.org.uk
SUMMARY:Flaxton Environment Group Talk
DESCRIPTION:The Environment Group is organising a talk and discussion on 17 September at the village hall\, see attached flyer.  Mark Hewitt has a wealth of experience managing nature reserves and is currently conservation lead at Skipwith Common\, which is similar to Strensall Common.  He has also managed grassland reserves so his talk will have relevance for the management of the village green. \nPlease do come along\, listen to what he has to say and join in the discussion. \nFlyer
URL:https://www.flaxtonpc.org.uk/event/flaxton-environment-group-talk/
LOCATION:Flaxton Village Hall\, Rice Lane\, Flaxton\, York\, YO60 7RJ\, United Kingdom
CATEGORIES:Environment Group
END:VEVENT
END:VCALENDAR