BEGIN:VCALENDAR
VERSION:2.0
PRODID:-//Flaxton Parish Council - ECPv6.15.18//NONSGML v1.0//EN
CALSCALE:GREGORIAN
METHOD:PUBLISH
X-ORIGINAL-URL:https://www.flaxtonpc.org.uk
X-WR-CALDESC:Events for Flaxton Parish Council
REFRESH-INTERVAL;VALUE=DURATION:PT1H
X-Robots-Tag:noindex
X-PUBLISHED-TTL:PT1H
BEGIN:VTIMEZONE
TZID:Europe/London
BEGIN:DAYLIGHT
TZOFFSETFROM:+0000
TZOFFSETTO:+0100
TZNAME:BST
DTSTART:20240331T010000
END:DAYLIGHT
BEGIN:STANDARD
TZOFFSETFROM:+0100
TZOFFSETTO:+0000
TZNAME:GMT
DTSTART:20241027T010000
END:STANDARD
BEGIN:DAYLIGHT
TZOFFSETFROM:+0000
TZOFFSETTO:+0100
TZNAME:BST
DTSTART:20250330T010000
END:DAYLIGHT
BEGIN:STANDARD
TZOFFSETFROM:+0100
TZOFFSETTO:+0000
TZNAME:GMT
DTSTART:20251026T010000
END:STANDARD
BEGIN:DAYLIGHT
TZOFFSETFROM:+0000
TZOFFSETTO:+0100
TZNAME:BST
DTSTART:20260329T010000
END:DAYLIGHT
BEGIN:STANDARD
TZOFFSETFROM:+0100
TZOFFSETTO:+0000
TZNAME:GMT
DTSTART:20261025T010000
END:STANDARD
END:VTIMEZONE
BEGIN:VEVENT
DTSTART;TZID=Europe/London:20250311T190000
DTEND;TZID=Europe/London:20250311T203000
DTSTAMP:20260421T172002
CREATED:20250220T152741Z
LAST-MODIFIED:20250220T152741Z
UID:23610-1741719600-1741725000@www.flaxtonpc.org.uk
SUMMARY:Flaxton Environment Group - AGM and presentation
DESCRIPTION:The results from the Flaxton Environment Group village questionnaire are in\, and will be presented at a meeting in the village hall on Tuesday 11 March.  This will be preceded by a short AGM of the Environment Group\, starting at 7 pm.  After the presentation of the questionnaire results will be news of planned events and an opportunity to ask questions and feed in any additional comments or ideas that you may have.
URL:https://www.flaxtonpc.org.uk/event/flaxton-environment-group-agm-and-presentation/
LOCATION:Flaxton Village Hall\, Rice Lane\, Flaxton\, York\, YO60 7RJ\, United Kingdom
CATEGORIES:Environment Group
END:VEVENT
END:VCALENDAR