BEGIN:VCALENDAR
VERSION:2.0
PRODID:-//Flaxton Parish Council - ECPv6.15.18//NONSGML v1.0//EN
CALSCALE:GREGORIAN
METHOD:PUBLISH
X-WR-CALNAME:Flaxton Parish Council
X-ORIGINAL-URL:https://www.flaxtonpc.org.uk
X-WR-CALDESC:Events for Flaxton Parish Council
REFRESH-INTERVAL;VALUE=DURATION:PT1H
X-Robots-Tag:noindex
X-PUBLISHED-TTL:PT1H
BEGIN:VTIMEZONE
TZID:Europe/London
BEGIN:DAYLIGHT
TZOFFSETFROM:+0000
TZOFFSETTO:+0100
TZNAME:BST
DTSTART:20230326T010000
END:DAYLIGHT
BEGIN:STANDARD
TZOFFSETFROM:+0100
TZOFFSETTO:+0000
TZNAME:GMT
DTSTART:20231029T010000
END:STANDARD
BEGIN:DAYLIGHT
TZOFFSETFROM:+0000
TZOFFSETTO:+0100
TZNAME:BST
DTSTART:20240331T010000
END:DAYLIGHT
BEGIN:STANDARD
TZOFFSETFROM:+0100
TZOFFSETTO:+0000
TZNAME:GMT
DTSTART:20241027T010000
END:STANDARD
BEGIN:DAYLIGHT
TZOFFSETFROM:+0000
TZOFFSETTO:+0100
TZNAME:BST
DTSTART:20250330T010000
END:DAYLIGHT
BEGIN:STANDARD
TZOFFSETFROM:+0100
TZOFFSETTO:+0000
TZNAME:GMT
DTSTART:20251026T010000
END:STANDARD
END:VTIMEZONE
BEGIN:VEVENT
DTSTART;TZID=Europe/London:20241105T140000
DTEND;TZID=Europe/London:20241105T160000
DTSTAMP:20260422T223713
CREATED:20240325T165205Z
LAST-MODIFIED:20240325T171310Z
UID:17500-1730815200-1730822400@www.flaxtonpc.org.uk
SUMMARY:Flaxton Friends - Beekeeping talk
DESCRIPTION:Speaker: Gordon Ross  \nTalk: Beekeeping  \nCompetition: Item with Bees on  \nRaffle: Jenny Todd  \nHostess: Judy Pearson
URL:https://www.flaxtonpc.org.uk/event/flaxton-friends-beekeeping-talk/
LOCATION:Flaxton Village Hall\, Rice Lane\, Flaxton\, York\, YO60 7RJ\, United Kingdom
CATEGORIES:Flaxton Friends
END:VEVENT
BEGIN:VEVENT
DTSTART;TZID=Europe/London:20241109T110000
DTEND;TZID=Europe/London:20241109T140000
DTSTAMP:20260422T223713
CREATED:20240805T092243Z
LAST-MODIFIED:20240805T102825Z
UID:19465-1731150000-1731160800@www.flaxtonpc.org.uk
SUMMARY:Flaxton and District Friends - Table Top Sale
DESCRIPTION:Tables can be booked for £15 per table via Jill Fagan telephone: 01904 468523. \nNo admission fee. \nRefreshments will be on sale throughout the opening times e.g. hot bacon/sausage sandwich\, cakes\, tea\, coffee\, soft drinks. \nProceeds from table bookings will go to Flaxton and District Friends Group. \n 
URL:https://www.flaxtonpc.org.uk/event/flaxton-and-district-friends-table-top-sale/
LOCATION:Flaxton Village Hall\, Rice Lane\, Flaxton\, York\, YO60 7RJ\, United Kingdom
CATEGORIES:Flaxton Friends
END:VEVENT
END:VCALENDAR