BEGIN:VCALENDAR
VERSION:2.0
PRODID:-//Flaxton Parish Council - ECPv6.15.18//NONSGML v1.0//EN
CALSCALE:GREGORIAN
METHOD:PUBLISH
X-WR-CALNAME:Flaxton Parish Council
X-ORIGINAL-URL:https://www.flaxtonpc.org.uk
X-WR-CALDESC:Events for Flaxton Parish Council
REFRESH-INTERVAL;VALUE=DURATION:PT1H
X-Robots-Tag:noindex
X-PUBLISHED-TTL:PT1H
BEGIN:VTIMEZONE
TZID:Europe/London
BEGIN:DAYLIGHT
TZOFFSETFROM:+0000
TZOFFSETTO:+0100
TZNAME:BST
DTSTART:20240331T010000
END:DAYLIGHT
BEGIN:STANDARD
TZOFFSETFROM:+0100
TZOFFSETTO:+0000
TZNAME:GMT
DTSTART:20241027T010000
END:STANDARD
BEGIN:DAYLIGHT
TZOFFSETFROM:+0000
TZOFFSETTO:+0100
TZNAME:BST
DTSTART:20250330T010000
END:DAYLIGHT
BEGIN:STANDARD
TZOFFSETFROM:+0100
TZOFFSETTO:+0000
TZNAME:GMT
DTSTART:20251026T010000
END:STANDARD
BEGIN:DAYLIGHT
TZOFFSETFROM:+0000
TZOFFSETTO:+0100
TZNAME:BST
DTSTART:20260329T010000
END:DAYLIGHT
BEGIN:STANDARD
TZOFFSETFROM:+0100
TZOFFSETTO:+0000
TZNAME:GMT
DTSTART:20261025T010000
END:STANDARD
BEGIN:DAYLIGHT
TZOFFSETFROM:+0000
TZOFFSETTO:+0100
TZNAME:BST
DTSTART:20270328T010000
END:DAYLIGHT
BEGIN:STANDARD
TZOFFSETFROM:+0100
TZOFFSETTO:+0000
TZNAME:GMT
DTSTART:20271031T010000
END:STANDARD
BEGIN:DAYLIGHT
TZOFFSETFROM:+0000
TZOFFSETTO:+0100
TZNAME:BST
DTSTART:20280326T010000
END:DAYLIGHT
BEGIN:STANDARD
TZOFFSETFROM:+0100
TZOFFSETTO:+0000
TZNAME:GMT
DTSTART:20281029T010000
END:STANDARD
END:VTIMEZONE
BEGIN:VEVENT
DTSTART;TZID=Europe/London:20251104T140000
DTEND;TZID=Europe/London:20251104T160000
DTSTAMP:20260423T023800
CREATED:20250407T170210Z
LAST-MODIFIED:20250407T170210Z
UID:24393-1762264800-1762272000@www.flaxtonpc.org.uk
SUMMARY:Flaxton and District Friends - 'Uganda\, My Other Life'
DESCRIPTION:Speaker – Rita Miller
URL:https://www.flaxtonpc.org.uk/event/flaxton-and-district-friends-uganda-my-other-life/
LOCATION:Flaxton Village Hall\, Rice Lane\, Flaxton\, York\, YO60 7RJ\, United Kingdom
CATEGORIES:Flaxton Friends
END:VEVENT
BEGIN:VEVENT
DTSTART;TZID=Europe/London:20260203T140000
DTEND;TZID=Europe/London:20260203T160000
DTSTAMP:20260423T023800
CREATED:20250407T170337Z
LAST-MODIFIED:20250407T170337Z
UID:24396-1770127200-1770134400@www.flaxtonpc.org.uk
SUMMARY:Flaxton and District Friends - 'Glass Craft'
DESCRIPTION:Speaker – Chris Press
URL:https://www.flaxtonpc.org.uk/event/flaxton-and-district-friends-glass-craft/
LOCATION:Flaxton Village Hall\, Rice Lane\, Flaxton\, York\, YO60 7RJ\, United Kingdom
CATEGORIES:Flaxton Friends
END:VEVENT
BEGIN:VEVENT
DTSTART;TZID=Europe/London:20260304T140000
DTEND;TZID=Europe/London:20260304T160000
DTSTAMP:20260423T023800
CREATED:20250407T170434Z
LAST-MODIFIED:20250407T170434Z
UID:24399-1772632800-1772640000@www.flaxtonpc.org.uk
SUMMARY:Flaxton and District Friends - Annual General Meeting
DESCRIPTION:
URL:https://www.flaxtonpc.org.uk/event/flaxton-and-district-friends-annual-general-meeting/
LOCATION:Flaxton Village Hall\, Rice Lane\, Flaxton\, York\, YO60 7RJ\, United Kingdom
CATEGORIES:Flaxton Friends
END:VEVENT
BEGIN:VEVENT
DTSTART;TZID=Europe/London:20260505T193000
DTEND;TZID=Europe/London:20260505T210000
DTSTAMP:20260423T023800
CREATED:20260407T163215Z
LAST-MODIFIED:20260407T163239Z
UID:27705-1778009400-1778014800@www.flaxtonpc.org.uk
SUMMARY:Flaxton & District Friends - Talk Lesley Mossop "Coastal Path"
DESCRIPTION:
URL:https://www.flaxtonpc.org.uk/event/flaxton-district-friends-talk-lesley-mossop-coastal-path/
LOCATION:Flaxton Village Hall\, Rice Lane\, Flaxton\, York\, YO60 7RJ\, United Kingdom
CATEGORIES:Flaxton Friends
END:VEVENT
BEGIN:VEVENT
DTSTART;TZID=Europe/London:20260602T193000
DTEND;TZID=Europe/London:20260602T210000
DTSTAMP:20260423T023800
CREATED:20260407T163409Z
LAST-MODIFIED:20260407T163409Z
UID:27710-1780428600-1780434000@www.flaxtonpc.org.uk
SUMMARY:Flaxton & District Friends - Talk Graham Mitchell (Joseph Rowntree Theatre) "A Unique Community Asset"
DESCRIPTION:
URL:https://www.flaxtonpc.org.uk/event/flaxton-district-friends-talk-graham-mitchell-joseph-rowntree-theatre-a-unique-community-asset/
LOCATION:Flaxton Village Hall\, Rice Lane\, Flaxton\, York\, YO60 7RJ\, United Kingdom
CATEGORIES:Flaxton Friends
END:VEVENT
BEGIN:VEVENT
DTSTART;TZID=Europe/London:20260707T193000
DTEND;TZID=Europe/London:20260707T210000
DTSTAMP:20260423T023800
CREATED:20260407T163457Z
LAST-MODIFIED:20260408T132814Z
UID:27713-1783452600-1783458000@www.flaxtonpc.org.uk
SUMMARY:Flaxton & District Friends - Talk "TBA"
DESCRIPTION:
URL:https://www.flaxtonpc.org.uk/event/flaxton-district-friends-talk-tba/
LOCATION:Flaxton Village Hall\, Rice Lane\, Flaxton\, York\, YO60 7RJ\, United Kingdom
CATEGORIES:Flaxton Friends
END:VEVENT
BEGIN:VEVENT
DTSTART;TZID=Europe/London:20260901T193000
DTEND;TZID=Europe/London:20260901T210000
DTSTAMP:20260423T023800
CREATED:20260407T163557Z
LAST-MODIFIED:20260408T132832Z
UID:27716-1788291000-1788296400@www.flaxtonpc.org.uk
SUMMARY:Flaxton & District Friends - Talk Malcolm Walker "The Irish in York"
DESCRIPTION:
URL:https://www.flaxtonpc.org.uk/event/flaxton-district-friends-talk-malcolm-walker-the-irish-in-york/
LOCATION:Flaxton Village Hall\, Rice Lane\, Flaxton\, York\, YO60 7RJ\, United Kingdom
CATEGORIES:Flaxton Friends
END:VEVENT
BEGIN:VEVENT
DTSTART;TZID=Europe/London:20261006T140000
DTEND;TZID=Europe/London:20261006T160000
DTSTAMP:20260423T023800
CREATED:20260407T163719Z
LAST-MODIFIED:20260408T132859Z
UID:27718-1791295200-1791302400@www.flaxtonpc.org.uk
SUMMARY:Flaxton & District Friends - Talk Julie Humpherson "Apsara Gardening"
DESCRIPTION:
URL:https://www.flaxtonpc.org.uk/event/flaxton-district-friends-talk-julie-humpherson-apsara-gardening/
LOCATION:Flaxton Village Hall\, Rice Lane\, Flaxton\, York\, YO60 7RJ\, United Kingdom
CATEGORIES:Flaxton Friends
END:VEVENT
BEGIN:VEVENT
DTSTART;TZID=Europe/London:20261103T140000
DTEND;TZID=Europe/London:20261103T160000
DTSTAMP:20260423T023800
CREATED:20260407T163835Z
LAST-MODIFIED:20260407T163835Z
UID:27721-1793714400-1793721600@www.flaxtonpc.org.uk
SUMMARY:Flaxton & District Friends - Talk David Powell "Yorkshire Wild Life Trust"
DESCRIPTION:
URL:https://www.flaxtonpc.org.uk/event/flaxton-district-friends-talk-david-powell-yorkshire-wild-life-trust/
LOCATION:Flaxton Village Hall\, Rice Lane\, Flaxton\, York\, YO60 7RJ\, United Kingdom
CATEGORIES:Flaxton Friends
END:VEVENT
BEGIN:VEVENT
DTSTART;TZID=Europe/London:20270202T140000
DTEND;TZID=Europe/London:20270202T160000
DTSTAMP:20260423T023800
CREATED:20260407T163944Z
LAST-MODIFIED:20260407T163944Z
UID:27724-1801576800-1801584000@www.flaxtonpc.org.uk
SUMMARY:Flaxton & District Friends - Talk Mike Bartle "Swan Upping"
DESCRIPTION:
URL:https://www.flaxtonpc.org.uk/event/flaxton-district-friends-talk-mike-bartle-swan-upping/
LOCATION:Flaxton Village Hall\, Rice Lane\, Flaxton\, York\, YO60 7RJ\, United Kingdom
CATEGORIES:Flaxton Friends
END:VEVENT
BEGIN:VEVENT
DTSTART;TZID=Europe/London:20270302T140000
DTEND;TZID=Europe/London:20270302T160000
DTSTAMP:20260423T023800
CREATED:20260407T164058Z
LAST-MODIFIED:20260407T164058Z
UID:27727-1803996000-1804003200@www.flaxtonpc.org.uk
SUMMARY:Flaxton & District Friends - Annual General Meeting
DESCRIPTION:
URL:https://www.flaxtonpc.org.uk/event/flaxton-district-friends-annual-general-meeting/
LOCATION:Flaxton Village Hall\, Rice Lane\, Flaxton\, York\, YO60 7RJ\, United Kingdom
CATEGORIES:Flaxton Friends
END:VEVENT
END:VCALENDAR