BEGIN:VCALENDAR
VERSION:2.0
PRODID:-//Flaxton Parish Council - ECPv6.15.18//NONSGML v1.0//EN
CALSCALE:GREGORIAN
METHOD:PUBLISH
X-WR-CALNAME:Flaxton Parish Council
X-ORIGINAL-URL:https://www.flaxtonpc.org.uk
X-WR-CALDESC:Events for Flaxton Parish Council
REFRESH-INTERVAL;VALUE=DURATION:PT1H
X-Robots-Tag:noindex
X-PUBLISHED-TTL:PT1H
BEGIN:VTIMEZONE
TZID:Europe/London
BEGIN:DAYLIGHT
TZOFFSETFROM:+0000
TZOFFSETTO:+0100
TZNAME:BST
DTSTART:20240331T010000
END:DAYLIGHT
BEGIN:STANDARD
TZOFFSETFROM:+0100
TZOFFSETTO:+0000
TZNAME:GMT
DTSTART:20241027T010000
END:STANDARD
BEGIN:DAYLIGHT
TZOFFSETFROM:+0000
TZOFFSETTO:+0100
TZNAME:BST
DTSTART:20250330T010000
END:DAYLIGHT
BEGIN:STANDARD
TZOFFSETFROM:+0100
TZOFFSETTO:+0000
TZNAME:GMT
DTSTART:20251026T010000
END:STANDARD
BEGIN:DAYLIGHT
TZOFFSETFROM:+0000
TZOFFSETTO:+0100
TZNAME:BST
DTSTART:20260329T010000
END:DAYLIGHT
BEGIN:STANDARD
TZOFFSETFROM:+0100
TZOFFSETTO:+0000
TZNAME:GMT
DTSTART:20261025T010000
END:STANDARD
END:VTIMEZONE
BEGIN:VEVENT
DTSTART;TZID=Europe/London:20251130T100000
DTEND;TZID=Europe/London:20251130T233000
DTSTAMP:20260421T180715
CREATED:20251127T104701Z
LAST-MODIFIED:20251127T104701Z
UID:27102-1764496800-1764545400@www.flaxtonpc.org.uk
SUMMARY:Flaxton Church Service
DESCRIPTION:Originally advertised by Harton Benefice to be at Howsham Church but now in Flaxton.
URL:https://www.flaxtonpc.org.uk/event/flaxton-church-service/
LOCATION:St Lawrence Church\, Flaxton
CATEGORIES:Harton Benefice
END:VEVENT
END:VCALENDAR