BEGIN:VCALENDAR
VERSION:2.0
PRODID:-//Flaxton Parish Council - ECPv6.15.18//NONSGML v1.0//EN
CALSCALE:GREGORIAN
METHOD:PUBLISH
X-WR-CALNAME:Flaxton Parish Council
X-ORIGINAL-URL:https://www.flaxtonpc.org.uk
X-WR-CALDESC:Events for Flaxton Parish Council
REFRESH-INTERVAL;VALUE=DURATION:PT1H
X-Robots-Tag:noindex
X-PUBLISHED-TTL:PT1H
BEGIN:VTIMEZONE
TZID:Europe/London
BEGIN:DAYLIGHT
TZOFFSETFROM:+0000
TZOFFSETTO:+0100
TZNAME:BST
DTSTART:20240331T010000
END:DAYLIGHT
BEGIN:STANDARD
TZOFFSETFROM:+0100
TZOFFSETTO:+0000
TZNAME:GMT
DTSTART:20241027T010000
END:STANDARD
BEGIN:DAYLIGHT
TZOFFSETFROM:+0000
TZOFFSETTO:+0100
TZNAME:BST
DTSTART:20250330T010000
END:DAYLIGHT
BEGIN:STANDARD
TZOFFSETFROM:+0100
TZOFFSETTO:+0000
TZNAME:GMT
DTSTART:20251026T010000
END:STANDARD
BEGIN:DAYLIGHT
TZOFFSETFROM:+0000
TZOFFSETTO:+0100
TZNAME:BST
DTSTART:20260329T010000
END:DAYLIGHT
BEGIN:STANDARD
TZOFFSETFROM:+0100
TZOFFSETTO:+0000
TZNAME:GMT
DTSTART:20261025T010000
END:STANDARD
BEGIN:DAYLIGHT
TZOFFSETFROM:+0000
TZOFFSETTO:+0100
TZNAME:BST
DTSTART:20270328T010000
END:DAYLIGHT
BEGIN:STANDARD
TZOFFSETFROM:+0100
TZOFFSETTO:+0000
TZNAME:GMT
DTSTART:20271031T010000
END:STANDARD
END:VTIMEZONE
BEGIN:VEVENT
DTSTART;VALUE=DATE:20260525
DTEND;VALUE=DATE:20260530
DTSTAMP:20260420T142642
CREATED:20260328T060409Z
LAST-MODIFIED:20260328T060409Z
UID:27661-1779667200-1780099199@www.flaxtonpc.org.uk
SUMMARY:Flaxton Environment Group - Nature Quiz
DESCRIPTION:To be confirmed
URL:https://www.flaxtonpc.org.uk/event/flaxton-environment-group-nature-quiz/
LOCATION:York
CATEGORIES:Environment Group
END:VEVENT
BEGIN:VEVENT
DTSTART;VALUE=DATE:20260516
DTEND;VALUE=DATE:20260517
DTSTAMP:20260420T142642
CREATED:20260328T060302Z
LAST-MODIFIED:20260328T060302Z
UID:27658-1778889600-1778975999@www.flaxtonpc.org.uk
SUMMARY:Flaxton Environment Group - Early morning bird song walk
DESCRIPTION:Details to be confirmed
URL:https://www.flaxtonpc.org.uk/event/flaxton-environment-group-early-morning-bird-song-walk/
LOCATION:York
CATEGORIES:Environment Group
END:VEVENT
BEGIN:VEVENT
DTSTART;TZID=Europe/London:20260509T183000
DTEND;TZID=Europe/London:20260509T220000
DTSTAMP:20260420T142642
CREATED:20260411T180046Z
LAST-MODIFIED:20260411T180046Z
UID:27769-1778351400-1778364000@www.flaxtonpc.org.uk
SUMMARY:Flaxton Social Community Hall Fundraiser - Bingo Night with Supper
DESCRIPTION:Bingo Night Flyer
URL:https://www.flaxtonpc.org.uk/event/flaxton-social-community-hall-fundraiser-bingo-night-with-supper/
LOCATION:Flaxton Village Hall\, Rice Lane\, Flaxton\, York\, YO60 7RJ\, United Kingdom
CATEGORIES:Flaxton Social
END:VEVENT
BEGIN:VEVENT
DTSTART;TZID=Europe/London:20260505T193000
DTEND;TZID=Europe/London:20260505T210000
DTSTAMP:20260420T142642
CREATED:20260407T163215Z
LAST-MODIFIED:20260407T163239Z
UID:27705-1778009400-1778014800@www.flaxtonpc.org.uk
SUMMARY:Flaxton & District Friends - Talk Lesley Mossop "Coastal Path"
DESCRIPTION:
URL:https://www.flaxtonpc.org.uk/event/flaxton-district-friends-talk-lesley-mossop-coastal-path/
LOCATION:Flaxton Village Hall\, Rice Lane\, Flaxton\, York\, YO60 7RJ\, United Kingdom
CATEGORIES:Flaxton Friends
END:VEVENT
BEGIN:VEVENT
DTSTART;VALUE=DATE:20260418
DTEND;VALUE=DATE:20260419
DTSTAMP:20260420T142642
CREATED:20260328T060127Z
LAST-MODIFIED:20260328T060127Z
UID:27655-1776470400-1776556799@www.flaxtonpc.org.uk
SUMMARY:Flaxton Environment Group - Survey of Amphibians in Village Ponds
DESCRIPTION:Pond survey to record amphibians (frogs\, toads and newts) using ponds in Flaxton.  This is a follow up to a previous survey in 1994 and hopefully will be much more extensive than the small survey carried out a couple of years ago.  It will be carried out by the original 1994 surveyor John Spray in conjunction with the York Amphibian and Reptile Group in the evening of 18 April (the easiest way to search for amphibians is with a torch after dark as this is when they are most active). \nWe would like to survey as many ponds as possible in the survey.  If you have a pond in your garden\, field or croft that you would be happy to have included in this survey please email flaxtonenvironmentgroup@gmail.com or speak to one of the committee\, and someone will be in touch with further information.  Many thanks for your help. \n 
URL:https://www.flaxtonpc.org.uk/event/flaxton-environment-group-survey-of-amphibians-in-village-ponds/
LOCATION:York
CATEGORIES:Environment Group
END:VEVENT
BEGIN:VEVENT
DTSTART;TZID=Europe/London:20260416T193000
DTEND;TZID=Europe/London:20260416T210000
DTSTAMP:20260420T142642
CREATED:20251119T085026Z
LAST-MODIFIED:20251119T085026Z
UID:27016-1776367800-1776373200@www.flaxtonpc.org.uk
SUMMARY:Flaxton Parish Council Meeting
DESCRIPTION:
URL:https://www.flaxtonpc.org.uk/event/flaxton-parish-council-meeting-27/
LOCATION:Flaxton Village Hall\, Rice Lane\, Flaxton\, York\, YO60 7RJ\, United Kingdom
CATEGORIES:Parish Council Meetings
ORGANIZER;CN="Flaxton Parish Council":MAILTO:clerk@flaxtonpc.org.uk
END:VEVENT
BEGIN:VEVENT
DTSTART;TZID=Europe/London:20260413T193000
DTEND;TZID=Europe/London:20260413T210000
DTSTAMP:20260420T142642
CREATED:20251013T200648Z
LAST-MODIFIED:20251013T201602Z
UID:26815-1776108600-1776114000@www.flaxtonpc.org.uk
SUMMARY:Flaxton and District Gardening Club - Topic to be Confirmed
DESCRIPTION:Placeholder
URL:https://www.flaxtonpc.org.uk/event/flaxton-and-district-gardening-club-7/
LOCATION:Flaxton Village Hall\, Rice Lane\, Flaxton\, York\, YO60 7RJ\, United Kingdom
CATEGORIES:Gardening Club
END:VEVENT
BEGIN:VEVENT
DTSTART;TZID=Europe/London:20260322T150000
DTEND;TZID=Europe/London:20260322T170000
DTSTAMP:20260420T142642
CREATED:20260223T165333Z
LAST-MODIFIED:20260223T165333Z
UID:27555-1774191600-1774198800@www.flaxtonpc.org.uk
SUMMARY:Easter Fundraiser for Community Hall
DESCRIPTION:Easter
URL:https://www.flaxtonpc.org.uk/event/easter-fundraiser-for-community-hall/
LOCATION:Flaxton Village Hall\, Rice Lane\, Flaxton\, York\, YO60 7RJ\, United Kingdom
CATEGORIES:Flaxton Community Hall,Flaxton Social
END:VEVENT
BEGIN:VEVENT
DTSTART;TZID=Europe/London:20260319T193000
DTEND;TZID=Europe/London:20260319T210000
DTSTAMP:20260420T142642
CREATED:20251119T084943Z
LAST-MODIFIED:20251119T084943Z
UID:27013-1773948600-1773954000@www.flaxtonpc.org.uk
SUMMARY:Flaxton Parish Council Meeting
DESCRIPTION:
URL:https://www.flaxtonpc.org.uk/event/flaxton-parish-council-meeting-26/
LOCATION:Flaxton Village Hall\, Rice Lane\, Flaxton\, York\, YO60 7RJ\, United Kingdom
CATEGORIES:Parish Council Meetings
ORGANIZER;CN="Flaxton Parish Council":MAILTO:clerk@flaxtonpc.org.uk
END:VEVENT
BEGIN:VEVENT
DTSTART;TZID=Europe/London:20260316T193000
DTEND;TZID=Europe/London:20260316T210000
DTSTAMP:20260420T142642
CREATED:20251013T200542Z
LAST-MODIFIED:20251013T201536Z
UID:26812-1773689400-1773694800@www.flaxtonpc.org.uk
SUMMARY:Flaxton and District Gardening Club -“Japanese Gardens”
DESCRIPTION:“Japanese Gardens”\nAndy Bolton\, Japanese Garden Society.\nAndy has his own Japanese garden in Tockwith.
URL:https://www.flaxtonpc.org.uk/event/flaxton-and-district-gardening-club-6/
LOCATION:Flaxton Village Hall\, Rice Lane\, Flaxton\, York\, YO60 7RJ\, United Kingdom
CATEGORIES:Gardening Club
END:VEVENT
BEGIN:VEVENT
DTSTART;TZID=Europe/London:20260310T190000
DTEND;TZID=Europe/London:20260310T210000
DTSTAMP:20260420T142642
CREATED:20260128T150729Z
LAST-MODIFIED:20260128T150741Z
UID:27461-1773169200-1773176400@www.flaxtonpc.org.uk
SUMMARY:Flaxton Environment Group Talk on ‘The Trees of Flaxton Common'
DESCRIPTION:Flyer for 2026 AGM
URL:https://www.flaxtonpc.org.uk/event/flaxton-environment-group-talk-on-the-trees-of-flaxton-common/
LOCATION:York
CATEGORIES:Environment Group
END:VEVENT
BEGIN:VEVENT
DTSTART;TZID=Europe/London:20260304T140000
DTEND;TZID=Europe/London:20260304T160000
DTSTAMP:20260420T142642
CREATED:20250407T170434Z
LAST-MODIFIED:20250407T170434Z
UID:24399-1772632800-1772640000@www.flaxtonpc.org.uk
SUMMARY:Flaxton and District Friends - Annual General Meeting
DESCRIPTION:
URL:https://www.flaxtonpc.org.uk/event/flaxton-and-district-friends-annual-general-meeting/
LOCATION:Flaxton Village Hall\, Rice Lane\, Flaxton\, York\, YO60 7RJ\, United Kingdom
CATEGORIES:Flaxton Friends
END:VEVENT
BEGIN:VEVENT
DTSTART;TZID=Europe/London:20260219T193000
DTEND;TZID=Europe/London:20260219T210000
DTSTAMP:20260420T142642
CREATED:20251119T084848Z
LAST-MODIFIED:20251119T084848Z
UID:27010-1771529400-1771534800@www.flaxtonpc.org.uk
SUMMARY:Flaxton Parish Council Meeting
DESCRIPTION:
URL:https://www.flaxtonpc.org.uk/event/flaxton-parish-council-meeting-25/
LOCATION:Flaxton Village Hall\, Rice Lane\, Flaxton\, York\, YO60 7RJ\, United Kingdom
CATEGORIES:Parish Council Meetings
ORGANIZER;CN="Flaxton Parish Council":MAILTO:clerk@flaxtonpc.org.uk
END:VEVENT
BEGIN:VEVENT
DTSTART;TZID=Europe/London:20260216T193000
DTEND;TZID=Europe/London:20260216T210000
DTSTAMP:20260420T142642
CREATED:20251013T200422Z
LAST-MODIFIED:20251013T201702Z
UID:26809-1771270200-1771275600@www.flaxtonpc.org.uk
SUMMARY:Flaxton and District Gardening Club - Quiz Night
DESCRIPTION:Quiz Night
URL:https://www.flaxtonpc.org.uk/event/flaxton-and-district-gardening-club-5/
LOCATION:Flaxton Village Hall\, Rice Lane\, Flaxton\, York\, YO60 7RJ\, United Kingdom
CATEGORIES:Gardening Club
END:VEVENT
BEGIN:VEVENT
DTSTART;TZID=Europe/London:20260204T100000
DTEND;TZID=Europe/London:20260204T110000
DTSTAMP:20260420T142642
CREATED:20251119T084524Z
LAST-MODIFIED:20251119T084524Z
UID:27004-1770199200-1770202800@www.flaxtonpc.org.uk
SUMMARY:Flaxton Church - Holy Communion
DESCRIPTION:
URL:https://www.flaxtonpc.org.uk/event/flaxton-church-holy-communion-4/
LOCATION:St Lawrence Church\, Flaxton
CATEGORIES:St Lawrence Church
END:VEVENT
BEGIN:VEVENT
DTSTART;TZID=Europe/London:20260203T140000
DTEND;TZID=Europe/London:20260203T160000
DTSTAMP:20260420T142642
CREATED:20250407T170337Z
LAST-MODIFIED:20250407T170337Z
UID:24396-1770127200-1770134400@www.flaxtonpc.org.uk
SUMMARY:Flaxton and District Friends - 'Glass Craft'
DESCRIPTION:Speaker – Chris Press
URL:https://www.flaxtonpc.org.uk/event/flaxton-and-district-friends-glass-craft/
LOCATION:Flaxton Village Hall\, Rice Lane\, Flaxton\, York\, YO60 7RJ\, United Kingdom
CATEGORIES:Flaxton Friends
END:VEVENT
BEGIN:VEVENT
DTSTART;TZID=Europe/London:20260119T193000
DTEND;TZID=Europe/London:20260119T193000
DTSTAMP:20260420T142642
CREATED:20251013T200314Z
LAST-MODIFIED:20251013T201508Z
UID:26806-1768851000-1768851000@www.flaxtonpc.org.uk
SUMMARY:Flaxton and District Gardening Club - “Ten Ways to a Better Garden”
DESCRIPTION:“Ten Ways to a Better Garden”\nDoug Stewart\, Chartered Horticulturalist
URL:https://www.flaxtonpc.org.uk/event/flaxton-and-district-gardening-club-4/
LOCATION:Flaxton Village Hall\, Rice Lane\, Flaxton\, York\, YO60 7RJ\, United Kingdom
CATEGORIES:Gardening Club
END:VEVENT
BEGIN:VEVENT
DTSTART;TZID=Europe/London:20260115T193000
DTEND;TZID=Europe/London:20260115T210000
DTSTAMP:20260420T142642
CREATED:20251119T084759Z
LAST-MODIFIED:20251119T084759Z
UID:27007-1768505400-1768510800@www.flaxtonpc.org.uk
SUMMARY:Flaxton Parish Council Meeting
DESCRIPTION:
URL:https://www.flaxtonpc.org.uk/event/flaxton-parish-council-meeting-18/
LOCATION:Flaxton Village Hall\, Rice Lane\, Flaxton\, York\, YO60 7RJ\, United Kingdom
CATEGORIES:Parish Council Meetings
ORGANIZER;CN="Flaxton Parish Council":MAILTO:clerk@flaxtonpc.org.uk
END:VEVENT
BEGIN:VEVENT
DTSTART;TZID=Europe/London:20260114T100000
DTEND;TZID=Europe/London:20260114T110000
DTSTAMP:20260420T142642
CREATED:20251119T084439Z
LAST-MODIFIED:20251119T084439Z
UID:27001-1768384800-1768388400@www.flaxtonpc.org.uk
SUMMARY:Flaxton Church - Holy Communion
DESCRIPTION:
URL:https://www.flaxtonpc.org.uk/event/flaxton-church-holy-communion-3/
LOCATION:St Lawrence Church\, Flaxton
CATEGORIES:St Lawrence Church
END:VEVENT
BEGIN:VEVENT
DTSTART;TZID=Europe/London:20251219T193000
DTEND;TZID=Europe/London:20251219T213000
DTSTAMP:20260420T142642
CREATED:20251118T162301Z
LAST-MODIFIED:20251208T100120Z
UID:26989-1766172600-1766179800@www.flaxtonpc.org.uk
SUMMARY:Carol Service St Lawrence's Church
DESCRIPTION:Carol Service 0001
URL:https://www.flaxtonpc.org.uk/event/carol-service/
LOCATION:St Lawrence Church\, Flaxton
CATEGORIES:St Lawrence Church
END:VEVENT
BEGIN:VEVENT
DTSTART;TZID=Europe/London:20251214T100000
DTEND;TZID=Europe/London:20251214T120000
DTSTAMP:20260420T142642
CREATED:20251118T162019Z
LAST-MODIFIED:20251208T100219Z
UID:26986-1765706400-1765713600@www.flaxtonpc.org.uk
SUMMARY:Toy Service  - St Lawrence's Church
DESCRIPTION:Carol Service 0001
URL:https://www.flaxtonpc.org.uk/event/toy-service/
LOCATION:St Lawrence Church\, Flaxton
CATEGORIES:St Lawrence Church
END:VEVENT
BEGIN:VEVENT
DTSTART;TZID=Europe/London:20251211T193000
DTEND;TZID=Europe/London:20251211T210000
DTSTAMP:20260420T142642
CREATED:20241205T173720Z
LAST-MODIFIED:20250524T081849Z
UID:22791-1765481400-1765486800@www.flaxtonpc.org.uk
SUMMARY:Flaxton Parish Council Meeting
DESCRIPTION:
URL:https://www.flaxtonpc.org.uk/event/flaxton-parish-council-meeting-24/
LOCATION:Flaxton Village Hall\, Rice Lane\, Flaxton\, York\, YO60 7RJ\, United Kingdom
CATEGORIES:Parish Council Meetings
ORGANIZER;CN="Flaxton Parish Council":MAILTO:clerk@flaxtonpc.org.uk
END:VEVENT
BEGIN:VEVENT
DTSTART;TZID=Europe/London:20251210T100000
DTEND;TZID=Europe/London:20251210T110000
DTSTAMP:20260420T142642
CREATED:20251119T084212Z
LAST-MODIFIED:20251119T084337Z
UID:26998-1765360800-1765364400@www.flaxtonpc.org.uk
SUMMARY:Flaxton Church - Holy Communion
DESCRIPTION:
URL:https://www.flaxtonpc.org.uk/event/flaxton-church-holy-communion-2/
LOCATION:St Lawrence Church\, Flaxton
CATEGORIES:St Lawrence Church
END:VEVENT
BEGIN:VEVENT
DTSTART;TZID=Europe/London:20251208T120000
DTEND;TZID=Europe/London:20251208T170000
DTSTAMP:20260420T142642
CREATED:20251031T210142Z
LAST-MODIFIED:20251031T210359Z
UID:26931-1765195200-1765213200@www.flaxtonpc.org.uk
SUMMARY:Flaxton and District Gardening Club - Christmas Lunch
DESCRIPTION:Xmas lunch at York Golf Club. \n12pm meet for 12.30 pm start \n  \nDetails to follow
URL:https://www.flaxtonpc.org.uk/event/gardening-club-christmas-lunch/
LOCATION:York
CATEGORIES:Gardening Club
END:VEVENT
BEGIN:VEVENT
DTSTART;TZID=Europe/London:20251130T100000
DTEND;TZID=Europe/London:20251130T233000
DTSTAMP:20260420T142642
CREATED:20251127T104701Z
LAST-MODIFIED:20251127T104701Z
UID:27102-1764496800-1764545400@www.flaxtonpc.org.uk
SUMMARY:Flaxton Church Service
DESCRIPTION:Originally advertised by Harton Benefice to be at Howsham Church but now in Flaxton.
URL:https://www.flaxtonpc.org.uk/event/flaxton-church-service/
LOCATION:St Lawrence Church\, Flaxton
CATEGORIES:Harton Benefice
END:VEVENT
BEGIN:VEVENT
DTSTART;TZID=Europe/London:20251121T184500
DTEND;TZID=Europe/London:20251121T223000
DTSTAMP:20260420T142642
CREATED:20251022T155046Z
LAST-MODIFIED:20251022T160533Z
UID:26888-1763750700-1763764200@www.flaxtonpc.org.uk
SUMMARY:Flaxton Social - Family Quiz & Supper
DESCRIPTION:Quiz_Night_Ticket_Form \n  \n \n  \n  \n  \n 
URL:https://www.flaxtonpc.org.uk/event/flaxton-social-family-quiz-supper/
LOCATION:Flaxton Village Hall\, Rice Lane\, Flaxton\, York\, YO60 7RJ\, United Kingdom
CATEGORIES:Flaxton Social
END:VEVENT
BEGIN:VEVENT
DTSTART;TZID=Europe/London:20251120T193000
DTEND;TZID=Europe/London:20251120T210000
DTSTAMP:20260420T142642
CREATED:20241205T173637Z
LAST-MODIFIED:20250818T121324Z
UID:22788-1763667000-1763672400@www.flaxtonpc.org.uk
SUMMARY:Flaxton Parish Council Meeting
DESCRIPTION:
URL:https://www.flaxtonpc.org.uk/event/flaxton-parish-council-meeting-23/
LOCATION:Flaxton Village Hall\, Rice Lane\, Flaxton\, York\, YO60 7RJ\, United Kingdom
CATEGORIES:Parish Council Meetings
ORGANIZER;CN="Flaxton Parish Council":MAILTO:clerk@flaxtonpc.org.uk
END:VEVENT
BEGIN:VEVENT
DTSTART;TZID=Europe/London:20251119T100000
DTEND;TZID=Europe/London:20251119T110000
DTSTAMP:20260420T142642
CREATED:20251119T084130Z
LAST-MODIFIED:20251119T084130Z
UID:26995-1763546400-1763550000@www.flaxtonpc.org.uk
SUMMARY:Flaxton Church - Holy Communion
DESCRIPTION:
URL:https://www.flaxtonpc.org.uk/event/flaxton-church-holy-communion/
LOCATION:St Lawrence Church\, Flaxton
CATEGORIES:St Lawrence Church
END:VEVENT
BEGIN:VEVENT
DTSTART;TZID=Europe/London:20251117T193000
DTEND;TZID=Europe/London:20251117T210000
DTSTAMP:20260420T142642
CREATED:20251013T200157Z
LAST-MODIFIED:20251031T205838Z
UID:26803-1763407800-1763413200@www.flaxtonpc.org.uk
SUMMARY:Flaxton and District Gardening Club - “Alpines and Their Uses”
DESCRIPTION:“Alpines and Their Uses”\nMark Padgett
URL:https://www.flaxtonpc.org.uk/event/flaxton-and-district-gardening-club-3/
LOCATION:Flaxton Village Hall\, Rice Lane\, Flaxton\, York\, YO60 7RJ\, United Kingdom
CATEGORIES:Gardening Club
END:VEVENT
BEGIN:VEVENT
DTSTART;TZID=Europe/London:20251104T140000
DTEND;TZID=Europe/London:20251104T160000
DTSTAMP:20260420T142642
CREATED:20250407T170210Z
LAST-MODIFIED:20250407T170210Z
UID:24393-1762264800-1762272000@www.flaxtonpc.org.uk
SUMMARY:Flaxton and District Friends - 'Uganda\, My Other Life'
DESCRIPTION:Speaker – Rita Miller
URL:https://www.flaxtonpc.org.uk/event/flaxton-and-district-friends-uganda-my-other-life/
LOCATION:Flaxton Village Hall\, Rice Lane\, Flaxton\, York\, YO60 7RJ\, United Kingdom
CATEGORIES:Flaxton Friends
END:VEVENT
END:VCALENDAR