BEGIN:VCALENDAR
VERSION:2.0
PRODID:-//Flaxton Parish Council - ECPv6.15.18//NONSGML v1.0//EN
CALSCALE:GREGORIAN
METHOD:PUBLISH
X-WR-CALNAME:Flaxton Parish Council
X-ORIGINAL-URL:https://www.flaxtonpc.org.uk
X-WR-CALDESC:Events for Flaxton Parish Council
REFRESH-INTERVAL;VALUE=DURATION:PT1H
X-Robots-Tag:noindex
X-PUBLISHED-TTL:PT1H
BEGIN:VTIMEZONE
TZID:Europe/London
BEGIN:DAYLIGHT
TZOFFSETFROM:+0000
TZOFFSETTO:+0100
TZNAME:BST
DTSTART:20230326T010000
END:DAYLIGHT
BEGIN:STANDARD
TZOFFSETFROM:+0100
TZOFFSETTO:+0000
TZNAME:GMT
DTSTART:20231029T010000
END:STANDARD
BEGIN:DAYLIGHT
TZOFFSETFROM:+0000
TZOFFSETTO:+0100
TZNAME:BST
DTSTART:20240331T010000
END:DAYLIGHT
BEGIN:STANDARD
TZOFFSETFROM:+0100
TZOFFSETTO:+0000
TZNAME:GMT
DTSTART:20241027T010000
END:STANDARD
BEGIN:DAYLIGHT
TZOFFSETFROM:+0000
TZOFFSETTO:+0100
TZNAME:BST
DTSTART:20250330T010000
END:DAYLIGHT
BEGIN:STANDARD
TZOFFSETFROM:+0100
TZOFFSETTO:+0000
TZNAME:GMT
DTSTART:20251026T010000
END:STANDARD
END:VTIMEZONE
BEGIN:VEVENT
DTSTART;TZID=Europe/London:20241012T190000
DTEND;TZID=Europe/London:20241012T213000
DTSTAMP:20260420T230407
CREATED:20240926T102744Z
LAST-MODIFIED:20240926T121037Z
UID:21142-1728759600-1728768600@www.flaxtonpc.org.uk
SUMMARY:Song and Supper with Singphonia
DESCRIPTION:After the successful ‘September Song and Supper’ last year the vocal group ‘Singphonia’ and their M.D. Don Pears\, are returning to Flaxton to entertain you with another evening of songs. ‘Singphonia’ members are all experienced performers and have an extensive repertoire of solo and ensemble pieces for you to enjoy. \nA ‘PLOUGHMANS SUPPER’ is included in the ticket price. Please bring along your own favourite tipple and glasses. \nTickets will be limited due to seating arrangements therefore it is essential to BOOK in ADVANCE. To reserve your  places please return the attached slip by Saturday October 5th. \nPlease place the slip in an envelope\, along with your ticket money\, (cash only please) to Liz at Westfield House\, Main Street\, Flaxton. \nDOORS OPEN AT 7.00 P.M. \nENTERTAINMENT BEGINS AT 7.30 P.M. We look forward to seeing you there! \nFlyer with ticket application form
URL:https://www.flaxtonpc.org.uk/event/song-and-supper-with-singphonia/
LOCATION:Flaxton Village Hall\, Rice Lane\, Flaxton\, York\, YO60 7RJ\, United Kingdom
CATEGORIES:Flaxton Social
END:VEVENT
BEGIN:VEVENT
DTSTART;TZID=Europe/London:20241006T110000
DTEND;TZID=Europe/London:20241006T120000
DTSTAMP:20260420T230407
CREATED:20240928T145902Z
LAST-MODIFIED:20240928T150044Z
UID:21169-1728212400-1728216000@www.flaxtonpc.org.uk
SUMMARY:Harvest Celebration and "Bring and Share" Lunch
DESCRIPTION:INVITATION to everyone to celebrate the HARVEST on Sunday 6th October 2024 at 11am not 10am as advertised in the Benefice Circular \nThere will be a service in church to celebrate the Harvest at 11am on Sunday 6th October followed by a “brinq and share lunch” at 12 noon in the village hall. Please feel free to bring whatever you would like to share at table. If you are unable to make the church service\, please do come to the lunch to enjoy good food and a catch up with friends and neighbours. Food can be left in the village hall between 9.30am and 10.30am on the Sunday or you can bring it in time for lunch at 12 noon. \nIf you would like to help decorate the church with flowers/produce\, then please come along on Saturday 5th October between 10.30am and 12.30pm. If that time is not convenient then please leave goods in church on the Friday. \nAs in previous years we would very much appreciate donations of non-perishable food which will be given to the Salvation Army. E.g. tins of soup\, meat\, fruit\, custard\, rice pudding\, pasta\, cereals\, tea\, coffee\, biscuits\, sugar\, jam\, Items can be left in church between 9am and 4pm\, Thurs\, Fri\, Sat or can be brought to service on the Sunday. Monetary donations also gratefully received. \nWe look forward to seeing you. \nBest wishes\, members of the Parochial Church Council\, St Lawrence Church\, Flaxton.
URL:https://www.flaxtonpc.org.uk/event/harvest-celebration-and-bring-and-share-lunch/
LOCATION:St Lawrence Church\, Flaxton
CATEGORIES:St Lawrence Church
END:VEVENT
BEGIN:VEVENT
DTSTART;TZID=Europe/London:20241001T140000
DTEND;TZID=Europe/London:20241001T160000
DTSTAMP:20260420T230407
CREATED:20240325T164943Z
LAST-MODIFIED:20240325T164943Z
UID:17497-1727791200-1727798400@www.flaxtonpc.org.uk
SUMMARY:Flaxton Friends - Yoga Bomb talk
DESCRIPTION:Speaker: Louise Harrand  \nTalk: Yoga bomb \nCompetition: A Crystal \nRaffle: Brenda Wood 	 \nHostess: Brenda Wood
URL:https://www.flaxtonpc.org.uk/event/flaxton-friends-yoga-bomb-talk/
LOCATION:Flaxton Village Hall\, Rice Lane\, Flaxton\, York\, YO60 7RJ\, United Kingdom
CATEGORIES:Flaxton Friends
END:VEVENT
BEGIN:VEVENT
DTSTART;TZID=Europe/London:20240919T193000
DTEND;TZID=Europe/London:20240919T210000
DTSTAMP:20260420T230407
CREATED:20240131T121230Z
LAST-MODIFIED:20240131T121230Z
UID:17254-1726774200-1726779600@www.flaxtonpc.org.uk
SUMMARY:Flaxton Parish Council Meeting
DESCRIPTION:Monthly meeting of the Flaxton Parish Council. All members of the public are welcome to attend.
URL:https://www.flaxtonpc.org.uk/event/flaxton-parish-council-meeting-8/
LOCATION:Flaxton Village Hall\, Rice Lane\, Flaxton\, York\, YO60 7RJ\, United Kingdom
CATEGORIES:Parish Council Meetings
ORGANIZER;CN="Flaxton Parish Council":MAILTO:clerk@flaxtonpc.org.uk
END:VEVENT
BEGIN:VEVENT
DTSTART;TZID=Europe/London:20240917T190000
DTEND;TZID=Europe/London:20240917T203000
DTSTAMP:20260420T230407
CREATED:20240829T120741Z
LAST-MODIFIED:20240902T154224Z
UID:19925-1726599600-1726605000@www.flaxtonpc.org.uk
SUMMARY:Flaxton Environment Group Talk
DESCRIPTION:The Environment Group is organising a talk and discussion on 17 September at the village hall\, see attached flyer.  Mark Hewitt has a wealth of experience managing nature reserves and is currently conservation lead at Skipwith Common\, which is similar to Strensall Common.  He has also managed grassland reserves so his talk will have relevance for the management of the village green. \nPlease do come along\, listen to what he has to say and join in the discussion. \nFlyer
URL:https://www.flaxtonpc.org.uk/event/flaxton-environment-group-talk/
LOCATION:Flaxton Village Hall\, Rice Lane\, Flaxton\, York\, YO60 7RJ\, United Kingdom
CATEGORIES:Environment Group
END:VEVENT
BEGIN:VEVENT
DTSTART;TZID=Europe/London:20240903T193000
DTEND;TZID=Europe/London:20240903T213000
DTSTAMP:20260420T230407
CREATED:20240325T164644Z
LAST-MODIFIED:20240325T164644Z
UID:17494-1725391800-1725399000@www.flaxtonpc.org.uk
SUMMARY:Flaxton Friends - Prison to Palace talk
DESCRIPTION:Speaker: Veronica Bird\n\nTalk: Prison to Palace – Lady who was a prison governor \nCompetition: Royal Memorabilia \nRaffle: Andrea Bean 	 \nHostess: Andrea Bean
URL:https://www.flaxtonpc.org.uk/event/flaxton-friends-prison-to-palace-talk/
LOCATION:Flaxton Village Hall\, Rice Lane\, Flaxton\, York\, YO60 7RJ\, United Kingdom
CATEGORIES:Flaxton Friends
END:VEVENT
BEGIN:VEVENT
DTSTART;TZID=Europe/London:20240829T190000
DTEND;TZID=Europe/London:20240829T203000
DTSTAMP:20260420T230407
CREATED:20240818T160603Z
LAST-MODIFIED:20240818T160603Z
UID:19692-1724958000-1724963400@www.flaxtonpc.org.uk
SUMMARY:Public Meeting to discuss intended disposal of The Blacksmiths Arms and possible community bid
DESCRIPTION:
URL:https://www.flaxtonpc.org.uk/event/public-meeting-to-discuss-intended-disposal-of-the-blacksmiths-arms-and-possible-community-bid/
LOCATION:Flaxton Village Hall\, Rice Lane\, Flaxton\, York\, YO60 7RJ\, United Kingdom
ORGANIZER;CN="Flaxton Parish Council":MAILTO:clerk@flaxtonpc.org.uk
END:VEVENT
BEGIN:VEVENT
DTSTART;TZID=Europe/London:20240828T190000
DTEND;TZID=Europe/London:20240828T203000
DTSTAMP:20260420T230407
CREATED:20240816T145056Z
LAST-MODIFIED:20240818T160632Z
UID:19602-1724871600-1724877000@www.flaxtonpc.org.uk
SUMMARY:Flaxton Community Hall Building Foundation Group Meeting
DESCRIPTION:Open Meeting attendance showed desire to progress the Hall development. \nSeveral villagers volunteered to help with looking at options for demolition and construction of a New Community Hall. \nKey task is to formalise a plan of action and a plan of potential construction types. \nKnowledge or experience or personal contacts around planning\, costing\, demolition\, asbestos removal\, design or associated tasks is desirable . \nOutline plans already exist subject to modification. \nI have volunteered to chair this first meeting. \nIf you are unable to attend please contact me at the Old Schoolhouse 01904468047 or chrisandjanetirish@gmail.com \nPlease note Fundraising will follow once plans are agreed.
URL:https://www.flaxtonpc.org.uk/event/flaxton-community-hall-building-foundation-group-meeting/
LOCATION:Flaxton Village Hall\, Rice Lane\, Flaxton\, York\, YO60 7RJ\, United Kingdom
CATEGORIES:Flaxton Community Hall
ORGANIZER;CN="Chris Irish":MAILTO:chrisandjanetirish@gmail.com
END:VEVENT
BEGIN:VEVENT
DTSTART;TZID=Europe/London:20240824T100000
DTEND;TZID=Europe/London:20240824T170000
DTSTAMP:20260420T230407
CREATED:20240209T154555Z
LAST-MODIFIED:20240209T154555Z
UID:17306-1724493600-1724518800@www.flaxtonpc.org.uk
SUMMARY:Flaxton Village Show
DESCRIPTION:Flaxton Village Show! – A list of categories will be delivered to your home soon.
URL:https://www.flaxtonpc.org.uk/event/flaxton-village-show-2/
LOCATION:Flaxton Village Hall\, Rice Lane\, Flaxton\, York\, YO60 7RJ\, United Kingdom
CATEGORIES:Flaxton Social
END:VEVENT
BEGIN:VEVENT
DTSTART;TZID=Europe/London:20240815T193000
DTEND;TZID=Europe/London:20240815T210000
DTSTAMP:20260420T230407
CREATED:20240131T190719Z
LAST-MODIFIED:20240131T190719Z
UID:17261-1723750200-1723755600@www.flaxtonpc.org.uk
SUMMARY:Flaxton Parish Council Meeting
DESCRIPTION:Monthly meeting of the Flaxton Parish Council. All members of the public are welcome to attend.
URL:https://www.flaxtonpc.org.uk/event/flaxton-parish-council-meeting-9/
LOCATION:Flaxton Village Hall\, Rice Lane\, Flaxton\, York\, YO60 7RJ\, United Kingdom
CATEGORIES:Parish Council Meetings
ORGANIZER;CN="Flaxton Parish Council":MAILTO:clerk@flaxtonpc.org.uk
END:VEVENT
BEGIN:VEVENT
DTSTART;TZID=Europe/London:20240801T193000
DTEND;TZID=Europe/London:20240801T210000
DTSTAMP:20260420T230407
CREATED:20240702T093704Z
LAST-MODIFIED:20240720T160039Z
UID:18773-1722540600-1722546000@www.flaxtonpc.org.uk
SUMMARY:Open meeting to discuss Flaxton Village Hall
DESCRIPTION:Agenda\nBackground – apologies to long term residents\, you will probably know this. \nThe Current Position \n\nResponsibilities of the Trustees\nCurrent Funds\nPlans for the new buildings\nAsbestos\nBudget figures\n\nWhat we need from the village – Outline where we need your help \nVolunteers \nQuestions & Answers – The trustees will try and answer any and all your questions \nSpeak with Volunteers – Hopefully sign some people up \nOpen to all villagers and interested parties.
URL:https://www.flaxtonpc.org.uk/event/village-hall-meeting/
LOCATION:Flaxton Village Hall\, Rice Lane\, Flaxton\, York\, YO60 7RJ\, United Kingdom
END:VEVENT
BEGIN:VEVENT
DTSTART;TZID=Europe/London:20240724T193000
DTEND;TZID=Europe/London:20240724T210000
DTSTAMP:20260420T230407
CREATED:20240131T120148Z
LAST-MODIFIED:20240707T184522Z
UID:17244-1721849400-1721854800@www.flaxtonpc.org.uk
SUMMARY:Flaxton Parish Council Meeting
DESCRIPTION:Monthly meeting of the Flaxton Parish Council. All members of the public are welcome to attend.
URL:https://www.flaxtonpc.org.uk/event/flaxton-parish-council-meeting-7/
LOCATION:Flaxton Village Hall\, Rice Lane\, Flaxton\, York\, YO60 7RJ\, United Kingdom
CATEGORIES:Parish Council Meetings
ORGANIZER;CN="Flaxton Parish Council":MAILTO:clerk@flaxtonpc.org.uk
END:VEVENT
BEGIN:VEVENT
DTSTART;TZID=Europe/London:20240702T193000
DTEND;TZID=Europe/London:20240702T213000
DTSTAMP:20260420T230407
CREATED:20240325T164343Z
LAST-MODIFIED:20240325T164343Z
UID:17489-1719948600-1719955800@www.flaxtonpc.org.uk
SUMMARY:Flaxton Friends Meeting – The Hurdy Gurdy talk
DESCRIPTION:Speaker: Kevin Holland \nTalk: The Hurdy Gurdy – History and playing \nCompetition: Monkey in any form  \nRaffle: Ida Terry	 \nHostess: Ida Terry
URL:https://www.flaxtonpc.org.uk/event/flaxton-friends-meeting-the-hurdy-gurdy-talk/
LOCATION:Flaxton Village Hall\, Rice Lane\, Flaxton\, York\, YO60 7RJ\, United Kingdom
CATEGORIES:Flaxton Friends
END:VEVENT
BEGIN:VEVENT
DTSTART;TZID=Europe/London:20240620T193000
DTEND;TZID=Europe/London:20240620T210000
DTSTAMP:20260420T230407
CREATED:20240131T120037Z
LAST-MODIFIED:20240131T120715Z
UID:17241-1718911800-1718917200@www.flaxtonpc.org.uk
SUMMARY:Flaxton Parish Council Meeting
DESCRIPTION:Monthly meeting of the Flaxton Parish Council. All members of the public are welcome to attend.
URL:https://www.flaxtonpc.org.uk/event/flaxton-parish-council-meeting-6/
LOCATION:Flaxton Village Hall\, Rice Lane\, Flaxton\, York\, YO60 7RJ\, United Kingdom
CATEGORIES:Parish Council Meetings
ORGANIZER;CN="Flaxton Parish Council":MAILTO:clerk@flaxtonpc.org.uk
END:VEVENT
BEGIN:VEVENT
DTSTART;TZID=Europe/London:20240604T193000
DTEND;TZID=Europe/London:20240604T213000
DTSTAMP:20260420T230407
CREATED:20240325T164050Z
LAST-MODIFIED:20240325T164050Z
UID:17480-1717529400-1717536600@www.flaxtonpc.org.uk
SUMMARY:Flaxton Friends Meeting - Joseph Rowntree Theatre talk
DESCRIPTION:Speaker: Dan Shrimpton \nTalk: Joseph Rowntree Theatre – origins & history \nCompetition: Theatre Memorabilia  \nRaffle: Liz Greaves  \nHostess: Liz Greaves
URL:https://www.flaxtonpc.org.uk/event/flaxton-friends-meeting-joseph-rowntree-theatre-talk/
LOCATION:Flaxton Village Hall\, Rice Lane\, Flaxton\, York\, YO60 7RJ\, United Kingdom
CATEGORIES:Flaxton Friends
END:VEVENT
BEGIN:VEVENT
DTSTART;TZID=Europe/London:20240522T180000
DTEND;TZID=Europe/London:20240522T200000
DTSTAMP:20260420T230407
CREATED:20240511T095014Z
LAST-MODIFIED:20240511T095014Z
UID:17760-1716400800-1716408000@www.flaxtonpc.org.uk
SUMMARY:Table Tennis
DESCRIPTION:All welcome
URL:https://www.flaxtonpc.org.uk/event/table-tennis-10/
LOCATION:Flaxton Village Hall\, Rice Lane\, Flaxton\, York\, YO60 7RJ\, United Kingdom
CATEGORIES:Table Tennis
ORGANIZER;CN="Mark Antrobus":MAILTO:mark@westyhouse.org
END:VEVENT
BEGIN:VEVENT
DTSTART;TZID=Europe/London:20240516T193000
DTEND;TZID=Europe/London:20240516T210000
DTSTAMP:20260420T230407
CREATED:20240131T115937Z
LAST-MODIFIED:20240131T121001Z
UID:17238-1715887800-1715893200@www.flaxtonpc.org.uk
SUMMARY:Flaxton Parish Council Meeting
DESCRIPTION:Monthly meeting of the Flaxton Parish Council. All members of the public are welcome to attend.
URL:https://www.flaxtonpc.org.uk/event/flaxton-parish-council-meeting-5/
LOCATION:Flaxton Village Hall\, Rice Lane\, Flaxton\, York\, YO60 7RJ\, United Kingdom
CATEGORIES:Parish Council Meetings
ORGANIZER;CN="Flaxton Parish Council":MAILTO:clerk@flaxtonpc.org.uk
END:VEVENT
BEGIN:VEVENT
DTSTART;TZID=Europe/London:20240514T190000
DTEND;TZID=Europe/London:20240514T200000
DTSTAMP:20260420T230407
CREATED:20240425T115046Z
LAST-MODIFIED:20240426T082532Z
UID:17674-1715713200-1715716800@www.flaxtonpc.org.uk
SUMMARY:Green Gait Owners Meeting
DESCRIPTION:The Green Gait Owners are having a meeting on Tuesday 14 May 2024 \nThis will be an open meeting for anyone to come\, at 7.00pm and this will be followed by a committee meeting for GGO members only.
URL:https://www.flaxtonpc.org.uk/event/green-gait-owners-meeting/
LOCATION:Flaxton Village Hall\, Rice Lane\, Flaxton\, York\, YO60 7RJ\, United Kingdom
CATEGORIES:Green Gait
END:VEVENT
BEGIN:VEVENT
DTSTART;TZID=Europe/London:20240512T140000
DTEND;TZID=Europe/London:20240512T160000
DTSTAMP:20260420T230407
CREATED:20240511T094908Z
LAST-MODIFIED:20240511T094908Z
UID:17756-1715522400-1715529600@www.flaxtonpc.org.uk
SUMMARY:Table Tennis
DESCRIPTION:All welcome.
URL:https://www.flaxtonpc.org.uk/event/table-tennis-9/
LOCATION:Flaxton Village Hall\, Rice Lane\, Flaxton\, York\, YO60 7RJ\, United Kingdom
CATEGORIES:Table Tennis
ORGANIZER;CN="Mark Antrobus":MAILTO:mark@westyhouse.org
END:VEVENT
BEGIN:VEVENT
DTSTART;TZID=Europe/London:20240511T183000
DTEND;TZID=Europe/London:20240511T223000
DTSTAMP:20260420T230407
CREATED:20240131T115602Z
LAST-MODIFIED:20240131T121038Z
UID:17233-1715452200-1715466600@www.flaxtonpc.org.uk
SUMMARY:Flaxton Social - Bingo and Supper Night
DESCRIPTION:Bingo and supper night – more details coming soon…
URL:https://www.flaxtonpc.org.uk/event/flaxton-social-bingo-and-supper-night/
LOCATION:Flaxton Village Hall\, Rice Lane\, Flaxton\, York\, YO60 7RJ\, United Kingdom
CATEGORIES:Flaxton Social
END:VEVENT
BEGIN:VEVENT
DTSTART;TZID=Europe/London:20240507T193000
DTEND;TZID=Europe/London:20240507T213000
DTSTAMP:20260420T230407
CREATED:20240325T163432Z
LAST-MODIFIED:20240325T170422Z
UID:17477-1715110200-1715117400@www.flaxtonpc.org.uk
SUMMARY:Flaxton Friends Meeting - Health through the ages talk
DESCRIPTION:Speaker: Dr Neil Moran  \nTalk: Health through the ages (in sickness & in health)  \nCompetition: Old Medical Object  \nRaffle: Joan Thompson 	 \nHostess: Joan Thompson
URL:https://www.flaxtonpc.org.uk/event/flaxton-friends-meeting-health-through-the-ages/
LOCATION:Flaxton Village Hall\, Rice Lane\, Flaxton\, York\, YO60 7RJ\, United Kingdom
CATEGORIES:Flaxton Friends
END:VEVENT
BEGIN:VEVENT
DTSTART;TZID=Europe/London:20240427T100000
DTEND;TZID=Europe/London:20240427T120000
DTSTAMP:20260420T230407
CREATED:20240405T134151Z
LAST-MODIFIED:20240405T134151Z
UID:17575-1714212000-1714219200@www.flaxtonpc.org.uk
SUMMARY:Flaxton Table Tennis
DESCRIPTION:Table tennis session – all welcome!
URL:https://www.flaxtonpc.org.uk/event/flaxton-table-tennis-2/
LOCATION:Flaxton Village Hall\, Rice Lane\, Flaxton\, York\, YO60 7RJ\, United Kingdom
CATEGORIES:Table Tennis
ORGANIZER;CN="Mark Antrobus":MAILTO:mark@westyhouse.org
END:VEVENT
END:VCALENDAR