BEGIN:VCALENDAR
VERSION:2.0
PRODID:-//Flaxton Parish Council - ECPv6.15.18//NONSGML v1.0//EN
CALSCALE:GREGORIAN
METHOD:PUBLISH
X-WR-CALNAME:Flaxton Parish Council
X-ORIGINAL-URL:https://www.flaxtonpc.org.uk
X-WR-CALDESC:Events for Flaxton Parish Council
REFRESH-INTERVAL;VALUE=DURATION:PT1H
X-Robots-Tag:noindex
X-PUBLISHED-TTL:PT1H
BEGIN:VTIMEZONE
TZID:Europe/London
BEGIN:DAYLIGHT
TZOFFSETFROM:+0000
TZOFFSETTO:+0100
TZNAME:BST
DTSTART:20240331T010000
END:DAYLIGHT
BEGIN:STANDARD
TZOFFSETFROM:+0100
TZOFFSETTO:+0000
TZNAME:GMT
DTSTART:20241027T010000
END:STANDARD
BEGIN:DAYLIGHT
TZOFFSETFROM:+0000
TZOFFSETTO:+0100
TZNAME:BST
DTSTART:20250330T010000
END:DAYLIGHT
BEGIN:STANDARD
TZOFFSETFROM:+0100
TZOFFSETTO:+0000
TZNAME:GMT
DTSTART:20251026T010000
END:STANDARD
BEGIN:DAYLIGHT
TZOFFSETFROM:+0000
TZOFFSETTO:+0100
TZNAME:BST
DTSTART:20260329T010000
END:DAYLIGHT
BEGIN:STANDARD
TZOFFSETFROM:+0100
TZOFFSETTO:+0000
TZNAME:GMT
DTSTART:20261025T010000
END:STANDARD
END:VTIMEZONE
BEGIN:VEVENT
DTSTART;TZID=Europe/London:20251007T140000
DTEND;TZID=Europe/London:20251007T160000
DTSTAMP:20260420T170720
CREATED:20250407T170109Z
LAST-MODIFIED:20250407T170109Z
UID:24390-1759845600-1759852800@www.flaxtonpc.org.uk
SUMMARY:Flaxton and District Friends - 'The Chocolate Love Story of Goddards'
DESCRIPTION:Speaker – Glennis Whyte
URL:https://www.flaxtonpc.org.uk/event/flaxton-and-district-friends-the-chocolate-love-story-of-goddards/
LOCATION:Flaxton Village Hall\, Rice Lane\, Flaxton\, York\, YO60 7RJ\, United Kingdom
CATEGORIES:Flaxton Friends
END:VEVENT
BEGIN:VEVENT
DTSTART;TZID=Europe/London:20251012T110000
DTEND;TZID=Europe/London:20251012T140000
DTSTAMP:20260420T170720
CREATED:20250803T062159Z
LAST-MODIFIED:20251007T101320Z
UID:26264-1760266800-1760277600@www.flaxtonpc.org.uk
SUMMARY:Harvest Holy Communication followed by 'bring and share' lunch
DESCRIPTION:As in previous years we shall be giving the produce to the Salvation Army to help them with their continued support of people in need. If you would like to contribute\, the Salvation Army would appreciate non-perishable goods e.g. tins\, paste\, rice\, cereal\, baby food etc. Monetary donations are also welcome. See details below.
URL:https://www.flaxtonpc.org.uk/event/harvest-holy-communication-followed-by-bring-and-share-lunch/
LOCATION:St Lawrence Church\, Flaxton
CATEGORIES:Harton Benefice
END:VEVENT
BEGIN:VEVENT
DTSTART;TZID=Europe/London:20251016T193000
DTEND;TZID=Europe/London:20251016T210000
DTSTAMP:20260420T170720
CREATED:20241205T173555Z
LAST-MODIFIED:20241205T173555Z
UID:22785-1760643000-1760648400@www.flaxtonpc.org.uk
SUMMARY:Flaxton Parish Council Meeting
DESCRIPTION:
URL:https://www.flaxtonpc.org.uk/event/flaxton-parish-council-meeting-22/
LOCATION:Flaxton Village Hall\, Rice Lane\, Flaxton\, York\, YO60 7RJ\, United Kingdom
CATEGORIES:Parish Council Meetings
ORGANIZER;CN="Flaxton Parish Council":MAILTO:clerk@flaxtonpc.org.uk
END:VEVENT
BEGIN:VEVENT
DTSTART;TZID=Europe/London:20251020T193000
DTEND;TZID=Europe/London:20251020T210000
DTSTAMP:20260420T170720
CREATED:20251013T200021Z
LAST-MODIFIED:20251013T201357Z
UID:26799-1760988600-1760994000@www.flaxtonpc.org.uk
SUMMARY:Flaxton and District Gardening Club - “Tulips & Bulbs in General”
DESCRIPTION:“Tulips & Bulbs in General”\nTeresa Clements\, Chair of RHS Bulbs\nMay bring bulbs to sell.
URL:https://www.flaxtonpc.org.uk/event/flaxton-and-district-gardening-club-2/
LOCATION:Flaxton Village Hall\, Rice Lane\, Flaxton\, York\, YO60 7RJ\, United Kingdom
CATEGORIES:Gardening Club
END:VEVENT
BEGIN:VEVENT
DTSTART;TZID=Europe/London:20251022T100000
DTEND;TZID=Europe/London:20251022T113000
DTSTAMP:20260420T170720
CREATED:20250803T062718Z
LAST-MODIFIED:20250803T062718Z
UID:26267-1761127200-1761132600@www.flaxtonpc.org.uk
SUMMARY:Holy Communion
DESCRIPTION:
URL:https://www.flaxtonpc.org.uk/event/holy-communion-3/
LOCATION:St Lawrence Church\, Flaxton
CATEGORIES:Harton Benefice
END:VEVENT
BEGIN:VEVENT
DTSTART;TZID=Europe/London:20251028T183000
DTEND;TZID=Europe/London:20251028T203000
DTSTAMP:20260420T170720
CREATED:20250925T092512Z
LAST-MODIFIED:20250925T092512Z
UID:26713-1761676200-1761683400@www.flaxtonpc.org.uk
SUMMARY:Flaxton Environment Group - Talk on Barn Owls
DESCRIPTION:A talk entitled ‘Barn Owls\, their life and how we can help them’ by Colin Gibson will be presented at 6.30 on Tuesday 28 October in Flaxton Community Village Hall.  You may have seen the recent report in the Gazette & Herald about Colin and his cousin Chris’s work erecting over 80 barn owl nest boxes in Ryedale. \nEntry is £2 if booked before Sunday 19 October\, or £4 on the door.   Please enclose £2 cash for each attendee with names in an envelope and put through letter box at The Old School House or Fir Tree House at Flaxton to secure your booking. \nSee flyer for further details
URL:https://www.flaxtonpc.org.uk/event/flaxton-environment-group-talk-on-barn-owls/
LOCATION:Flaxton Village Hall\, Rice Lane\, Flaxton\, York\, YO60 7RJ\, United Kingdom
CATEGORIES:Environment Group
END:VEVENT
END:VCALENDAR